BEGIN:VCALENDAR
VERSION:2.0
PRODID:-//VC Riethoven - ECPv6.15.20//NONSGML v1.0//EN
CALSCALE:GREGORIAN
METHOD:PUBLISH
X-WR-CALNAME:VC Riethoven
X-ORIGINAL-URL:https://www.vcriethoven.nl
X-WR-CALDESC:Evenementen voor VC Riethoven
REFRESH-INTERVAL;VALUE=DURATION:PT1H
X-Robots-Tag:noindex
X-PUBLISHED-TTL:PT1H
BEGIN:VTIMEZONE
TZID:Europe/Amsterdam
BEGIN:DAYLIGHT
TZOFFSETFROM:+0100
TZOFFSETTO:+0200
TZNAME:CEST
DTSTART:20230326T010000
END:DAYLIGHT
BEGIN:STANDARD
TZOFFSETFROM:+0200
TZOFFSETTO:+0100
TZNAME:CET
DTSTART:20231029T010000
END:STANDARD
BEGIN:DAYLIGHT
TZOFFSETFROM:+0100
TZOFFSETTO:+0200
TZNAME:CEST
DTSTART:20240331T010000
END:DAYLIGHT
BEGIN:STANDARD
TZOFFSETFROM:+0200
TZOFFSETTO:+0100
TZNAME:CET
DTSTART:20241027T010000
END:STANDARD
BEGIN:DAYLIGHT
TZOFFSETFROM:+0100
TZOFFSETTO:+0200
TZNAME:CEST
DTSTART:20250330T010000
END:DAYLIGHT
BEGIN:STANDARD
TZOFFSETFROM:+0200
TZOFFSETTO:+0100
TZNAME:CET
DTSTART:20251026T010000
END:STANDARD
BEGIN:DAYLIGHT
TZOFFSETFROM:+0100
TZOFFSETTO:+0200
TZNAME:CEST
DTSTART:20260329T010000
END:DAYLIGHT
BEGIN:STANDARD
TZOFFSETFROM:+0200
TZOFFSETTO:+0100
TZNAME:CET
DTSTART:20261025T010000
END:STANDARD
END:VTIMEZONE
BEGIN:VEVENT
DTSTART;VALUE=DATE:20250620
DTEND;VALUE=DATE:20250623
DTSTAMP:20260420T204922
CREATED:20240709T195031Z
LAST-MODIFIED:20250127T071714Z
UID:2048-1750377600-1750636799@www.vcriethoven.nl
SUMMARY:Vlooienmarktweekend 2025
DESCRIPTION:
URL:https://www.vcriethoven.nl/event/vlooienmarktweekend-2025/
LOCATION:Sporthal de Kemphaan\, Vlassstraat 6\, Riethoven\, Noord-Brabant\, 5561 AJ\, Nederland
CATEGORIES:Vlooienmarkt
ATTACH;FMTTYPE=image/jpeg:https://www.vcriethoven.nl/wp-content/uploads/2024/07/Vlooienmarkt-2025-VC-Riethoven.jpg
END:VEVENT
BEGIN:VEVENT
DTSTART;VALUE=DATE:20250518
DTEND;VALUE=DATE:20250519
DTSTAMP:20260420T204922
CREATED:20250402T114713Z
LAST-MODIFIED:20250402T115015Z
UID:3440-1747526400-1747612799@www.vcriethoven.nl
SUMMARY:Verenigingsdag 2025
DESCRIPTION:
URL:https://www.vcriethoven.nl/event/verenigingsdag-2025/
LOCATION:Noord-Brabant
ATTACH;FMTTYPE=image/jpeg:https://www.vcriethoven.nl/wp-content/uploads/2025/04/WhatsApp-Image-2025-04-02-at-13.44.16_e289fb4f.jpg
END:VEVENT
BEGIN:VEVENT
DTSTART;TZID=Europe/Amsterdam:20250104T190000
DTEND;TZID=Europe/Amsterdam:20250105T020000
DTSTAMP:20260420T204922
CREATED:20241115T124101Z
LAST-MODIFIED:20241213T213145Z
UID:2725-1736017200-1736042400@www.vcriethoven.nl
SUMMARY:Uitnodiging Nieuwjaarsreceptie\, Partnertoernooi en feestavond
DESCRIPTION:Uitnodiging Nieuwjaarsreceptie VC Riethoven \nBeste leden en vrienden van VC Riethoven\, \nHet bestuur van VC Riethoven nodigt jullie van harte uit voor onze jaarlijkse nieuwjaarsreceptie! Laten we samen het nieuwe jaar feestelijk inluiden en terugblikken op een sportief en succesvol 2024. \nDatum: Zaterdag 4 januari 2025\nTijd: 19:00 – we zien wel\nLocatie: Sporthal De Kemphaan\, Riethoven \nTijdens deze gezellige avond zullen we genieten van hapjes en drankjes\, en is er volop gelegenheid om bij te praten en nieuwe plannen te smeden voor het komende volleybalseizoen. Daarnaast organiseren we een partnertoernooi en sluiten we de avond af met een feestavond vol muziek en dans! \nWe hopen op een grote opkomst en kijken ernaar uit om samen met jullie te proosten op een sportief en gezond 2024! \nMet sportieve groet\, \nHet bestuur van VC Riethoven
URL:https://www.vcriethoven.nl/event/uitnodiging-nieuwjaarsreceptie-vc-riethoven/
LOCATION:Sporthal de Kemphaan\, Vlassstraat 6\, Riethoven\, Noord-Brabant\, 5561 AJ\, Nederland
CATEGORIES:Nieuwjaarsreceptie
ATTACH;FMTTYPE=image/jpeg:https://www.vcriethoven.nl/wp-content/uploads/2024/11/Nieuwjaarsreceptie-VC-Riethoven.jpg
END:VEVENT
BEGIN:VEVENT
DTSTART;TZID=Europe/Amsterdam:20240903T200000
DTEND;TZID=Europe/Amsterdam:20240903T233000
DTSTAMP:20260420T204922
CREATED:20240626T153439Z
LAST-MODIFIED:20240704T060008Z
UID:1474-1725393600-1725406200@www.vcriethoven.nl
SUMMARY:Algemene ledenvergadering
DESCRIPTION:
URL:https://www.vcriethoven.nl/event/algemene-ledenvergadering/
LOCATION:Sporthal de Kemphaan\, Vlassstraat 6\, Riethoven\, Noord-Brabant\, 5561 AJ\, Nederland
CATEGORIES:VC Riethoven
ATTACH;FMTTYPE=image/png:https://www.vcriethoven.nl/wp-content/uploads/2024/06/Algemene-Ledenvergadering.png
END:VEVENT
BEGIN:VEVENT
DTSTART;VALUE=DATE:20240825
DTEND;VALUE=DATE:20240826
DTSTAMP:20260420T204922
CREATED:20240413T115609Z
LAST-MODIFIED:20240506T064529Z
UID:98-1724544000-1724630399@www.vcriethoven.nl
SUMMARY:25 augustus 4-tegen-4 blacklight toernooi in de sporthal vanaf 16 jaar
DESCRIPTION:
URL:https://www.vcriethoven.nl/event/25-augustus-4-tegen-4-blacklight-toernooi-in-de-sporthal-vanaf-16-jaar/
LOCATION:Sporthal de Kemphaan\, Vlassstraat 6\, Riethoven\, Noord-Brabant\, 5561 AJ\, Nederland
CATEGORIES:Jubileum
ATTACH;FMTTYPE=image/jpeg:https://www.vcriethoven.nl/wp-content/uploads/2024/04/Blacklight-Toernooi-jpg.webp
END:VEVENT
BEGIN:VEVENT
DTSTART;TZID=Europe/Amsterdam:20240824T200000
DTEND;TZID=Europe/Amsterdam:20240824T220000
DTSTAMP:20260420T204922
CREATED:20240413T115817Z
LAST-MODIFIED:20240713T064454Z
UID:102-1724529600-1724536800@www.vcriethoven.nl
SUMMARY:24 augustus feestavond om 20.00 uur bij de Sleutel in Riethoven
DESCRIPTION:
URL:https://www.vcriethoven.nl/event/24-augustus-feestavond-om-20-00-uur-bij-de-sleutel-in-riethoven/
LOCATION:De Sleutel\, Dorpsstraat 1A\, Riethoven\, Noord-Brabant\, 5561 AS\, Nederland
CATEGORIES:Jubileum
ATTACH;FMTTYPE=image/jpeg:https://www.vcriethoven.nl/wp-content/uploads/2024/04/Feestavond-jpg.webp
END:VEVENT
BEGIN:VEVENT
DTSTART;TZID=Europe/Amsterdam:20240824T180000
DTEND;TZID=Europe/Amsterdam:20240824T200000
DTSTAMP:20260420T204922
CREATED:20240713T061247Z
LAST-MODIFIED:20240713T061642Z
UID:2072-1724522400-1724529600@www.vcriethoven.nl
SUMMARY:24 augustus buffet bij de sleutel
DESCRIPTION:
URL:https://www.vcriethoven.nl/event/24-augustus-buffet-bij-de-sleutel/
LOCATION:De Sleutel\, Dorpsstraat 1A\, Riethoven\, Noord-Brabant\, 5561 AS\, Nederland
CATEGORIES:Jubileum
ATTACH;FMTTYPE=image/jpeg:https://www.vcriethoven.nl/wp-content/uploads/2024/07/Buffet.jpeg
END:VEVENT
BEGIN:VEVENT
DTSTART;VALUE=DATE:20240824
DTEND;VALUE=DATE:20240825
DTSTAMP:20260420T204922
CREATED:20240413T120111Z
LAST-MODIFIED:20240507T080803Z
UID:107-1724457600-1724543999@www.vcriethoven.nl
SUMMARY:24 augustus 4-tegen-4 blacklight toernooi in de sporthal voor jeugd onder 16 jaar
DESCRIPTION:
URL:https://www.vcriethoven.nl/event/24-augustus-4-tegen-4-blacklight-toernooi-in-de-sporthal-voor-jeugd-onder-16-jaar/
LOCATION:Sporthal de Kemphaan\, Vlassstraat 6\, Riethoven\, Noord-Brabant\, 5561 AJ\, Nederland
CATEGORIES:Jubileum
ATTACH;FMTTYPE=image/jpeg:https://www.vcriethoven.nl/wp-content/uploads/2024/04/Blacklight-Toernooi-jpg.webp
END:VEVENT
BEGIN:VEVENT
DTSTART;VALUE=DATE:20240824
DTEND;VALUE=DATE:20240825
DTSTAMP:20260420T204922
CREATED:20240413T115924Z
LAST-MODIFIED:20240507T073756Z
UID:105-1724457600-1724543999@www.vcriethoven.nl
SUMMARY:Jubileumweekend 24 en 25 augustus
DESCRIPTION:
URL:https://www.vcriethoven.nl/event/jubileumweekend-24-en-25-augustus/
LOCATION:Sporthal de Kemphaan\, Vlassstraat 6\, Riethoven\, Noord-Brabant\, 5561 AJ\, Nederland
CATEGORIES:Jubileum
ATTACH;FMTTYPE=image/jpeg:https://www.vcriethoven.nl/wp-content/uploads/2024/04/Jubileumweekend-1-jpg.webp
END:VEVENT
BEGIN:VEVENT
DTSTART;TZID=Europe/Amsterdam:20240820T180000
DTEND;TZID=Europe/Amsterdam:20240820T220000
DTSTAMP:20260420T204922
CREATED:20240626T152851Z
LAST-MODIFIED:20240817T212548Z
UID:1469-1724176800-1724191200@www.vcriethoven.nl
SUMMARY:Eerste training seizoen 2024-2025
DESCRIPTION:Het nieuwe volleybalseizoen gaat binnenkort weer starten. Hopelijk heeft iedereen kunnen genieten van een fijne vakantie en zijn we er klaar voor. \nAanstaande dinsdag\, 20 augustus\, beginnen de trainingen weer volgens onderstaand schema:\n18.00-19.00 uur: mini’s\n19.00-20.30 uur: dames 1 Nevobo en meisjes C\n20.30-22.00 uur: dames en heren recreanten \nWij wensen iedereen een fijne start van het seizoen en veel volleybalplezier!
URL:https://www.vcriethoven.nl/event/eerst-training-seizoen-2024-2025/
LOCATION:Sporthal de Kemphaan\, Vlassstraat 6\, Riethoven\, Noord-Brabant\, 5561 AJ\, Nederland
CATEGORIES:Training
ATTACH;FMTTYPE=image/png:https://www.vcriethoven.nl/wp-content/uploads/2024/06/Training.png
END:VEVENT
BEGIN:VEVENT
DTSTART;TZID=Europe/Amsterdam:20240623T080000
DTEND;TZID=Europe/Amsterdam:20240623T180000
DTSTAMP:20260420T204922
CREATED:20240413T120709Z
LAST-MODIFIED:20250604T062518Z
UID:112-1719129600-1719165600@www.vcriethoven.nl
SUMMARY:Vlooienmarkt 2024
DESCRIPTION:
URL:https://www.vcriethoven.nl/event/vlooienmarkt-2024/
LOCATION:Sporthal de Kemphaan\, Vlassstraat 6\, Riethoven\, Noord-Brabant\, 5561 AJ\, Nederland
CATEGORIES:Vlooienmarkt
ATTACH;FMTTYPE=image/jpeg:https://www.vcriethoven.nl/wp-content/uploads/2024/04/Vlooienmarkt-2024-jpg.webp
END:VEVENT
BEGIN:VEVENT
DTSTART;VALUE=DATE:20240622
DTEND;VALUE=DATE:20240623
DTSTAMP:20260420T204922
CREATED:20240413T120926Z
LAST-MODIFIED:20240506T064604Z
UID:116-1719014400-1719100799@www.vcriethoven.nl
SUMMARY:Ophalen spullen dorp Riethoven
DESCRIPTION:
URL:https://www.vcriethoven.nl/event/ophalen-spullen-dorp-riethoven/
LOCATION:Sporthal de Kemphaan\, Vlassstraat 6\, Riethoven\, Noord-Brabant\, 5561 AJ\, Nederland
CATEGORIES:Vlooienmarkt
ATTACH;FMTTYPE=image/jpeg:https://www.vcriethoven.nl/wp-content/uploads/2024/04/Vlooienmarkt-2024-jpg.webp
END:VEVENT
BEGIN:VEVENT
DTSTART;VALUE=DATE:20240622
DTEND;VALUE=DATE:20240623
DTSTAMP:20260420T204922
CREATED:20240413T120814Z
LAST-MODIFIED:20240506T064530Z
UID:114-1719014400-1719100799@www.vcriethoven.nl
SUMMARY:Lotenverkoop jubileumfeest
DESCRIPTION:
URL:https://www.vcriethoven.nl/event/lotenverkoop-jubileumfeest/
LOCATION:Sporthal de Kemphaan\, Vlassstraat 6\, Riethoven\, Noord-Brabant\, 5561 AJ\, Nederland
CATEGORIES:Jubileum
END:VEVENT
BEGIN:VEVENT
DTSTART;TZID=Europe/Amsterdam:20240621T170000
DTEND;TZID=Europe/Amsterdam:20240621T200000
DTSTAMP:20260420T204922
CREATED:20240413T121035Z
LAST-MODIFIED:20240506T064605Z
UID:118-1718989200-1719000000@www.vcriethoven.nl
SUMMARY:Opbouwen sporthal voor vlooienmarktweekend
DESCRIPTION:
URL:https://www.vcriethoven.nl/event/opbouwen-sporthal-voor-vlooienmarktweekend/
LOCATION:Sporthal de Kemphaan\, Vlassstraat 6\, Riethoven\, Noord-Brabant\, 5561 AJ\, Nederland
CATEGORIES:Vlooienmarkt
ATTACH;FMTTYPE=image/jpeg:https://www.vcriethoven.nl/wp-content/uploads/2024/04/Vlooienmarkt-2024-jpg.webp
END:VEVENT
BEGIN:VEVENT
DTSTART;TZID=Europe/Amsterdam:20240620T200000
DTEND;TZID=Europe/Amsterdam:20240620T213000
DTSTAMP:20260420T204922
CREATED:20240420T153424Z
LAST-MODIFIED:20240507T073327Z
UID:513-1718913600-1718919000@www.vcriethoven.nl
SUMMARY:Laatste training Dames 1 en 2 Nevobo
DESCRIPTION:
URL:https://www.vcriethoven.nl/event/laatste-training-dames-1-en-2-nevobo/
LOCATION:Sporthal de Kemphaan\, Vlassstraat 6\, Riethoven\, Noord-Brabant\, 5561 AJ\, Nederland
CATEGORIES:Training
ATTACH;FMTTYPE=image/jpeg:https://www.vcriethoven.nl/wp-content/uploads/2024/04/Laatste-training-dames-1-en-2-Nevobo-jpg.webp
END:VEVENT
BEGIN:VEVENT
DTSTART;TZID=Europe/Amsterdam:20240618T193000
DTEND;TZID=Europe/Amsterdam:20240618T220000
DTSTAMP:20260420T204922
CREATED:20240420T153648Z
LAST-MODIFIED:20250216T125244Z
UID:515-1718739000-1718748000@www.vcriethoven.nl
SUMMARY:Laatste training meisjes C en vlaaientournooi
DESCRIPTION:
URL:https://www.vcriethoven.nl/event/laatste-training-meisjes-c-en-vlaaientournooi/
LOCATION:Sporthal de Kemphaan\, Vlassstraat 6\, Riethoven\, Noord-Brabant\, 5561 AJ\, Nederland
CATEGORIES:Training
ATTACH;FMTTYPE=image/jpeg:https://www.vcriethoven.nl/wp-content/uploads/2024/04/Laatste-training-jpg.webp
END:VEVENT
BEGIN:VEVENT
DTSTART;VALUE=DATE:20240509
DTEND;VALUE=DATE:20240510
DTSTAMP:20260420T204922
CREATED:20240420T052151Z
LAST-MODIFIED:20240507T065618Z
UID:490-1715212800-1715299199@www.vcriethoven.nl
SUMMARY:Geen training op Hemelvaart
DESCRIPTION:
URL:https://www.vcriethoven.nl/event/geen-training-op-hemelvaart/
LOCATION:Sporthal de Kemphaan\, Vlassstraat 6\, Riethoven\, Noord-Brabant\, 5561 AJ\, Nederland
CATEGORIES:Vakantie
ATTACH;FMTTYPE=image/jpeg:https://www.vcriethoven.nl/wp-content/uploads/2024/04/Geen-training-jpg.webp
END:VEVENT
BEGIN:VEVENT
DTSTART;TZID=Europe/Amsterdam:20240507T190000
DTEND;TZID=Europe/Amsterdam:20240507T200000
DTSTAMP:20260420T204922
CREATED:20240413T121133Z
LAST-MODIFIED:20240507T064430Z
UID:120-1715108400-1715112000@www.vcriethoven.nl
SUMMARY:Fotomoment met de hele vereniging
DESCRIPTION:
URL:https://www.vcriethoven.nl/event/fotomoment/
LOCATION:Sporthal de Kemphaan\, Vlassstraat 6\, Riethoven\, Noord-Brabant\, 5561 AJ\, Nederland
CATEGORIES:Jubileum
ATTACH;FMTTYPE=image/jpeg:https://www.vcriethoven.nl/wp-content/uploads/2024/04/Fotomoment-jpg.webp
END:VEVENT
BEGIN:VEVENT
DTSTART;VALUE=DATE:20240430
DTEND;VALUE=DATE:20240501
DTSTAMP:20260420T204922
CREATED:20240420T052545Z
LAST-MODIFIED:20240507T075636Z
UID:495-1714435200-1714521599@www.vcriethoven.nl
SUMMARY:Trainingen voor alle teams behalve de mini’s
DESCRIPTION:
URL:https://www.vcriethoven.nl/event/trainingen-voor-alle-teams-behalve-de-minis-op-30-april/
LOCATION:Sporthal de Kemphaan\, Vlassstraat 6\, Riethoven\, Noord-Brabant\, 5561 AJ\, Nederland
CATEGORIES:Vakantie
ATTACH;FMTTYPE=image/jpeg:https://www.vcriethoven.nl/wp-content/uploads/2024/04/Minis-geen-training-jpg.webp
END:VEVENT
BEGIN:VEVENT
DTSTART;VALUE=DATE:20240425
DTEND;VALUE=DATE:20240426
DTSTAMP:20260420T204922
CREATED:20240420T054436Z
LAST-MODIFIED:20240507T075754Z
UID:501-1714003200-1714089599@www.vcriethoven.nl
SUMMARY:Trainingen voor alle teams behalve de mini’s
DESCRIPTION:
URL:https://www.vcriethoven.nl/event/geen-training-voor-de-minis-op-25-april/
LOCATION:Sporthal de Kemphaan\, Vlassstraat 6\, Riethoven\, Noord-Brabant\, 5561 AJ\, Nederland
CATEGORIES:Vakantie
ATTACH;FMTTYPE=image/jpeg:https://www.vcriethoven.nl/wp-content/uploads/2024/04/Minis-geen-training-jpg.webp
END:VEVENT
BEGIN:VEVENT
DTSTART;VALUE=DATE:20240423
DTEND;VALUE=DATE:20240424
DTSTAMP:20260420T204922
CREATED:20240420T052342Z
LAST-MODIFIED:20240507T075512Z
UID:492-1713830400-1713916799@www.vcriethoven.nl
SUMMARY:Trainingen voor alle teams behalve de mini's
DESCRIPTION:
URL:https://www.vcriethoven.nl/event/trainingen-voor-alle-teams-behalve-de-minis-op-23-april/
LOCATION:Sporthal de Kemphaan\, Vlassstraat 6\, Riethoven\, Noord-Brabant\, 5561 AJ\, Nederland
CATEGORIES:Vakantie
ATTACH;FMTTYPE=image/jpeg:https://www.vcriethoven.nl/wp-content/uploads/2024/04/Minis-geen-training-jpg.webp
END:VEVENT
BEGIN:VEVENT
DTSTART;VALUE=DATE:20240422
DTEND;VALUE=DATE:20240506
DTSTAMP:20260420T204922
CREATED:20240420T051758Z
LAST-MODIFIED:20240507T074551Z
UID:481-1713744000-1714953599@www.vcriethoven.nl
SUMMARY:Meivakantie
DESCRIPTION:De officiële meivakantie is van 27 april tot 5 mei.
URL:https://www.vcriethoven.nl/event/meivakantie-22-april-tot-5-mei/
LOCATION:Sporthal de Kemphaan\, Vlassstraat 6\, Riethoven\, Noord-Brabant\, 5561 AJ\, Nederland
CATEGORIES:Vakantie
ATTACH;FMTTYPE=image/jpeg:https://www.vcriethoven.nl/wp-content/uploads/2024/04/Meivakantie-jpg.webp
END:VEVENT
END:VCALENDAR