BEGIN:VCALENDAR
VERSION:2.0
PRODID:-//VC Riethoven - ECPv6.15.20//NONSGML v1.0//EN
CALSCALE:GREGORIAN
METHOD:PUBLISH
X-ORIGINAL-URL:https://www.vcriethoven.nl
X-WR-CALDESC:Evenementen voor VC Riethoven
REFRESH-INTERVAL;VALUE=DURATION:PT1H
X-Robots-Tag:noindex
X-PUBLISHED-TTL:PT1H
BEGIN:VTIMEZONE
TZID:Europe/Amsterdam
BEGIN:DAYLIGHT
TZOFFSETFROM:+0100
TZOFFSETTO:+0200
TZNAME:CEST
DTSTART:20230326T010000
END:DAYLIGHT
BEGIN:STANDARD
TZOFFSETFROM:+0200
TZOFFSETTO:+0100
TZNAME:CET
DTSTART:20231029T010000
END:STANDARD
BEGIN:DAYLIGHT
TZOFFSETFROM:+0100
TZOFFSETTO:+0200
TZNAME:CEST
DTSTART:20240331T010000
END:DAYLIGHT
BEGIN:STANDARD
TZOFFSETFROM:+0200
TZOFFSETTO:+0100
TZNAME:CET
DTSTART:20241027T010000
END:STANDARD
BEGIN:DAYLIGHT
TZOFFSETFROM:+0100
TZOFFSETTO:+0200
TZNAME:CEST
DTSTART:20250330T010000
END:DAYLIGHT
BEGIN:STANDARD
TZOFFSETFROM:+0200
TZOFFSETTO:+0100
TZNAME:CET
DTSTART:20251026T010000
END:STANDARD
BEGIN:DAYLIGHT
TZOFFSETFROM:+0100
TZOFFSETTO:+0200
TZNAME:CEST
DTSTART:20260329T010000
END:DAYLIGHT
BEGIN:STANDARD
TZOFFSETFROM:+0200
TZOFFSETTO:+0100
TZNAME:CET
DTSTART:20261025T010000
END:STANDARD
BEGIN:DAYLIGHT
TZOFFSETFROM:+0100
TZOFFSETTO:+0200
TZNAME:CEST
DTSTART:20270328T010000
END:DAYLIGHT
BEGIN:STANDARD
TZOFFSETFROM:+0200
TZOFFSETTO:+0100
TZNAME:CET
DTSTART:20271031T010000
END:STANDARD
END:VTIMEZONE
BEGIN:VEVENT
DTSTART;TZID=Europe/Amsterdam:20240824T200000
DTEND;TZID=Europe/Amsterdam:20240824T220000
DTSTAMP:20260422T235915
CREATED:20240413T115817Z
LAST-MODIFIED:20240713T064454Z
UID:102-1724529600-1724536800@www.vcriethoven.nl
SUMMARY:24 augustus feestavond om 20.00 uur bij de Sleutel in Riethoven
DESCRIPTION:
URL:https://www.vcriethoven.nl/event/24-augustus-feestavond-om-20-00-uur-bij-de-sleutel-in-riethoven/
LOCATION:De Sleutel\, Dorpsstraat 1A\, Riethoven\, Noord-Brabant\, 5561 AS\, Nederland
CATEGORIES:Jubileum
ATTACH;FMTTYPE=image/jpeg:https://www.vcriethoven.nl/wp-content/uploads/2024/04/Feestavond-jpg.webp
END:VEVENT
BEGIN:VEVENT
DTSTART;VALUE=DATE:20240825
DTEND;VALUE=DATE:20240826
DTSTAMP:20260422T235915
CREATED:20240413T115609Z
LAST-MODIFIED:20240506T064529Z
UID:98-1724544000-1724630399@www.vcriethoven.nl
SUMMARY:25 augustus 4-tegen-4 blacklight toernooi in de sporthal vanaf 16 jaar
DESCRIPTION:
URL:https://www.vcriethoven.nl/event/25-augustus-4-tegen-4-blacklight-toernooi-in-de-sporthal-vanaf-16-jaar/
LOCATION:Sporthal de Kemphaan\, Vlassstraat 6\, Riethoven\, Noord-Brabant\, 5561 AJ\, Nederland
CATEGORIES:Jubileum
ATTACH;FMTTYPE=image/jpeg:https://www.vcriethoven.nl/wp-content/uploads/2024/04/Blacklight-Toernooi-jpg.webp
END:VEVENT
BEGIN:VEVENT
DTSTART;TZID=Europe/Amsterdam:20240903T200000
DTEND;TZID=Europe/Amsterdam:20240903T233000
DTSTAMP:20260422T235915
CREATED:20240626T153439Z
LAST-MODIFIED:20240704T060008Z
UID:1474-1725393600-1725406200@www.vcriethoven.nl
SUMMARY:Algemene ledenvergadering
DESCRIPTION:
URL:https://www.vcriethoven.nl/event/algemene-ledenvergadering/
LOCATION:Sporthal de Kemphaan\, Vlassstraat 6\, Riethoven\, Noord-Brabant\, 5561 AJ\, Nederland
CATEGORIES:VC Riethoven
ATTACH;FMTTYPE=image/png:https://www.vcriethoven.nl/wp-content/uploads/2024/06/Algemene-Ledenvergadering.png
END:VEVENT
BEGIN:VEVENT
DTSTART;TZID=Europe/Amsterdam:20250104T190000
DTEND;TZID=Europe/Amsterdam:20250105T020000
DTSTAMP:20260422T235915
CREATED:20241115T124101Z
LAST-MODIFIED:20241213T213145Z
UID:2725-1736017200-1736042400@www.vcriethoven.nl
SUMMARY:Uitnodiging Nieuwjaarsreceptie\, Partnertoernooi en feestavond
DESCRIPTION:Uitnodiging Nieuwjaarsreceptie VC Riethoven \nBeste leden en vrienden van VC Riethoven\, \nHet bestuur van VC Riethoven nodigt jullie van harte uit voor onze jaarlijkse nieuwjaarsreceptie! Laten we samen het nieuwe jaar feestelijk inluiden en terugblikken op een sportief en succesvol 2024. \nDatum: Zaterdag 4 januari 2025\nTijd: 19:00 – we zien wel\nLocatie: Sporthal De Kemphaan\, Riethoven \nTijdens deze gezellige avond zullen we genieten van hapjes en drankjes\, en is er volop gelegenheid om bij te praten en nieuwe plannen te smeden voor het komende volleybalseizoen. Daarnaast organiseren we een partnertoernooi en sluiten we de avond af met een feestavond vol muziek en dans! \nWe hopen op een grote opkomst en kijken ernaar uit om samen met jullie te proosten op een sportief en gezond 2024! \nMet sportieve groet\, \nHet bestuur van VC Riethoven
URL:https://www.vcriethoven.nl/event/uitnodiging-nieuwjaarsreceptie-vc-riethoven/
LOCATION:Sporthal de Kemphaan\, Vlassstraat 6\, Riethoven\, Noord-Brabant\, 5561 AJ\, Nederland
CATEGORIES:Nieuwjaarsreceptie
ATTACH;FMTTYPE=image/jpeg:https://www.vcriethoven.nl/wp-content/uploads/2024/11/Nieuwjaarsreceptie-VC-Riethoven.jpg
END:VEVENT
BEGIN:VEVENT
DTSTART;VALUE=DATE:20250518
DTEND;VALUE=DATE:20250519
DTSTAMP:20260422T235915
CREATED:20250402T114713Z
LAST-MODIFIED:20250402T115015Z
UID:3440-1747526400-1747612799@www.vcriethoven.nl
SUMMARY:Verenigingsdag 2025
DESCRIPTION:
URL:https://www.vcriethoven.nl/event/verenigingsdag-2025/
LOCATION:Noord-Brabant
ATTACH;FMTTYPE=image/jpeg:https://www.vcriethoven.nl/wp-content/uploads/2025/04/WhatsApp-Image-2025-04-02-at-13.44.16_e289fb4f.jpg
END:VEVENT
BEGIN:VEVENT
DTSTART;VALUE=DATE:20250620
DTEND;VALUE=DATE:20250623
DTSTAMP:20260422T235915
CREATED:20240709T195031Z
LAST-MODIFIED:20250127T071714Z
UID:2048-1750377600-1750636799@www.vcriethoven.nl
SUMMARY:Vlooienmarktweekend 2025
DESCRIPTION:
URL:https://www.vcriethoven.nl/event/vlooienmarktweekend-2025/
LOCATION:Sporthal de Kemphaan\, Vlassstraat 6\, Riethoven\, Noord-Brabant\, 5561 AJ\, Nederland
CATEGORIES:Vlooienmarkt
ATTACH;FMTTYPE=image/jpeg:https://www.vcriethoven.nl/wp-content/uploads/2024/07/Vlooienmarkt-2025-VC-Riethoven.jpg
END:VEVENT
BEGIN:VEVENT
DTSTART;VALUE=DATE:20260626
DTEND;VALUE=DATE:20260629
DTSTAMP:20260422T235915
CREATED:20250418T090937Z
LAST-MODIFIED:20250604T062933Z
UID:3512-1782432000-1782691199@www.vcriethoven.nl
SUMMARY:Vlooienmarktweekend 26\, 27 en 28 juni 2026
DESCRIPTION:
URL:https://www.vcriethoven.nl/event/vlooienmarktweekend-26-27-en-28-juni-2026/
LOCATION:Sporthal de Kemphaan\, Vlassstraat 6\, Riethoven\, Noord-Brabant\, 5561 AJ\, Nederland
CATEGORIES:Vlooienmarkt
ATTACH;FMTTYPE=image/jpeg:https://www.vcriethoven.nl/wp-content/uploads/2024/06/IMG_8587-jpeg.webp
END:VEVENT
END:VCALENDAR